BEGIN:VCALENDAR
VERSION:2.0
PRODID:
BEGIN:VEVENT
UID:357824imp
DTSTAMP:20260424T142158Z
DTSTART:20270304T180000Z
DTEND:20270304T200000Z
SUMMARY: Surgent's Excel Shortcuts for Accountants
DESCRIPTION: This webinar presents a variety of time-saving ideas\, shortcuts\, and tips that are sure to boost personal productivity. We discuss better summing\, address one of the biggest pitfalls that Excel users have faced over the past 25 years\, present the most important keyboard shortcuts\, demonstrate a better alternative to hiding rows or columns\, illustrate how to quickly navigate to other workbooks and files\, and demonstrate using Excel with styles.Delivery Method: Individual webcastCPE Credit: 2Program Level: BasicThis course is being offered by a learning partner. You may access the Surgent platform through the My CPE page on vscpa.com after purchase\n 
CLASS:PUBLIC
END:VEVENT
END:VCALENDAR
