BEGIN:VCALENDAR
VERSION:2.0
PRODID:
BEGIN:VEVENT
UID:357816imp
DTSTAMP:20260422T233138Z
DTSTART:20270303T180000Z
DTEND:20270303T200000Z
SUMMARY: Surgent's Exploring Client Advisory Services: Tax Due Dates and Penalties/Where Do I Need To File?
DESCRIPTION: This course provides essential knowledge for Client Advisory Services (CAS) professionals navigating multistate taxation and managing tax deadlines. We'll start by exploring the implications of the Wayfair decision\, focusing on general rules for sales and income tax nexus across states. You'll learn what to look for in state statutes and gain a solid foundation for filing requirements. Additionally\, we'll cover key tax due dates\, how to handle missed deadlines\, and potential relief options. Whether you're new to the field or running your own practice\, this course will equip you with the tools to succeed.Delivery Method: Individual webcastCPE Credit: 2Program Level: BasicThis course is being offered by a learning partner. You may access the Surgent platform through the My CPE page on vscpa.com after purchase\n 
CLASS:PUBLIC
END:VEVENT
END:VCALENDAR
