BEGIN:VCALENDAR
VERSION:2.0
PRODID:
BEGIN:VEVENT
UID:357804imp
DTSTAMP:20260423T195913Z
DTSTART:20270301T180000Z
DTEND:20270301T200000Z
SUMMARY: Surgent's Review and Analysis of Crucial OBBBA Changes
DESCRIPTION: Accounting and finance practitioners are still grappling with the many changes OBBBA has made to the tax laws\, many of which will impact tax filings. This program is an introduction to and review of some of these critical changes and their impact on taxpayers. 

Accounting and finance practitioners will gain a better understanding of this very complex set of new tax rules. Practitioners will grasp what is new and what is a continuance of prior rules to develop deeper insights into the many changes that the OBBBA made to the law. 

If you still feel you need to learn more about how OBBBA works\, this program is for you. We have assembled a two-hour review and analysis of what we consider the most important changes from OBBBA that impact client transactions. 

To the extent that Treasury has provided guidance relating to these new OBBBA changes\, we will discuss that guidance. Where guidance is lacking\, we will point out areas that require future attention from Treasury.Delivery Method: Individual webcastCPE Credit: 2Program Level: BasicThis course is being offered by a learning partner. You may access the Surgent platform through the My CPE page on vscpa.com after purchase\n 
CLASS:PUBLIC
END:VEVENT
END:VCALENDAR
