BEGIN:VCALENDAR
VERSION:2.0
PRODID:
BEGIN:VEVENT
UID:357770imp
DTSTAMP:20260425T102323Z
DTSTART:20270223T183000Z
DTEND:20270223T220000Z
SUMMARY: Surgent's Managing People Through Motivation
DESCRIPTION: Whether your employees report in every day to the floor or from an off-site network\, the success of your organization depends a great deal on the motivation they bring to the job. This program helps identify specific methods you can use to improve employee motivation. You'll learn how to use observation tools to find out what motivates your employees and you'll study classic motivational theories. The results will help you influence the behaviors of others and tweak your own behavior to improve your bottom line.Delivery Method: Individual webcastCPE Credit: 4Program Level: BasicThis course is being offered by a learning partner. You may access the Surgent platform through the My CPE page on vscpa.com after purchase\n 
CLASS:PUBLIC
END:VEVENT
END:VCALENDAR
