BEGIN:VCALENDAR
VERSION:2.0
PRODID:
BEGIN:VEVENT
UID:357763imp
DTSTAMP:20260424T120244Z
DTSTART:20270222T200000Z
DTEND:20270222T220000Z
SUMMARY: Surgent's Cybersecurity Risk Management for Financial Professionals: Policies\, Controls\, and Emerging Threats
DESCRIPTION: This course focuses on implementing cybersecurity policies\, controls\, and risk management strategies tailored to financial environments. It emphasizes practical applications to mitigate threats and highlights global compliance standards\, particularly their relevance and applicability to U.S. organizations.Delivery Method: Individual webcastCPE Credit: 2Program Level: BasicThis course is being offered by a learning partner. You may access the Surgent platform through the My CPE page on vscpa.com after purchase\n 
CLASS:PUBLIC
END:VEVENT
END:VCALENDAR
