BEGIN:VCALENDAR
VERSION:2.0
PRODID:
BEGIN:VEVENT
UID:357753imp
DTSTAMP:20260425T001726Z
DTSTART:20270219T190000Z
DTEND:20270219T210000Z
SUMMARY: Surgent's IT Governance and Risk Management
DESCRIPTION: This course covers the key components of IT governance and risk management through interactive discussions and hands-on activities.  By the end of the course\, participants will have a thorough understanding of the function of IT governance within an organization\, including roles and responsibilities and key frameworks. In addition\, participants will learn about IT risk identification and assessment methods and IT general and application controls. Business process management and change management will also be discussed.Delivery Method: Individual webcastCPE Credit: 2Program Level: BasicThis course is being offered by a learning partner. You may access the Surgent platform through the My CPE page on vscpa.com after purchase\n 
CLASS:PUBLIC
END:VEVENT
END:VCALENDAR
