BEGIN:VCALENDAR
VERSION:2.0
PRODID:
BEGIN:VEVENT
UID:357748imp
DTSTAMP:20260423T225203Z
DTSTART:20270219T180000Z
DTEND:20270219T213000Z
SUMMARY: Surgent's Construction Contractors: Accounting and Financial Reporting Issues
DESCRIPTION: Accounting and financial reporting for construction contractors may be the most difficult area to comply with the various standards. Construction engagements are\, in many instances\, more complicated than most lines of business due to the many users of the financial statements. In this course\, we will discuss why construction accounting and financial reporting is so complex and examine the relationship between the contractor and the surety\, both from an underwriting and a claims perspective. We will also explore what the surety looks for to maximize potential bond credit.Delivery Method: Individual webcastCPE Credit: 4Program Level: IntermediateThis course is being offered by a learning partner. You may access the Surgent platform through the My CPE page on vscpa.com after purchase\n 
CLASS:PUBLIC
END:VEVENT
END:VCALENDAR
