BEGIN:VCALENDAR
VERSION:2.0
PRODID:
BEGIN:VEVENT
UID:357726imp
DTSTAMP:20260423T190713Z
DTSTART:20270216T150000Z
DTEND:20270216T170000Z
SUMMARY: Surgent's Communicating Financial Results to Stakeholders: A Guide for Client Advisory Services
DESCRIPTION: One of the most difficult things for any Client Advisory Services (CAS) professional to learn is how to communicate financial information to non-financial people. To be successful\, it's crucial to master this skill\, as we frequently explain accounting jargon to those unfamiliar with the field. In this course\, we will explore how to properly communicate with stakeholders\, including investors\, clients\, boards of directors\, and even other departments. We will explore biases that people have when viewing financial information and even how to make sure we keep our message on point. If you are looking to move up in the financial services world\, this course is a must for you.Delivery Method: Individual webcastCPE Credit: 2Program Level: OverviewThis course is being offered by a learning partner. You may access the Surgent platform through the My CPE page on vscpa.com after purchase\n 
CLASS:PUBLIC
END:VEVENT
END:VCALENDAR
