BEGIN:VCALENDAR
VERSION:2.0
PRODID:
BEGIN:VEVENT
UID:357715imp
DTSTAMP:20260425T102459Z
DTSTART:20270212T150000Z
DTEND:20270212T170000Z
SUMMARY: Surgent's Mastering the Offer in Compromise: Strategies for Preparation and Negotiation
DESCRIPTION: This course is designed to equip tax professionals with a deep understanding of the IRS offer in compromise (OIC) program. Participants will learn the strategic\, procedural\, and practical elements of preparing and negotiating successful OICs for taxpayers facing significant tax liabilities. The course will walk through the eligibility criteria\, financial analysis standards\, supporting documentation requirements\, and techniques to enhance the likelihood of IRS acceptance. Common pitfalls\, recent trends\, and real-world case studies will also be covered.Delivery Method: Individual webcastCPE Credit: 2Program Level: BasicThis course is being offered by a learning partner. You may access the Surgent platform through the My CPE page on vscpa.com after purchase\n 
CLASS:PUBLIC
END:VEVENT
END:VCALENDAR
