BEGIN:VCALENDAR
VERSION:2.0
PRODID:
BEGIN:VEVENT
UID:357711imp
DTSTAMP:20260424T164921Z
DTSTART:20270212T180000Z
DTEND:20270212T200000Z
SUMMARY: Surgent's Build an AI Agent With ChatGPT: A Hands-on Lab for Financial Professionals
DESCRIPTION: This hands-on course introduces accountants\, auditors\, and finance professionals to agentic AI by simulating autonomous behavior using the basic version of ChatGPT. Participants will use role-play\, prompt engineering\, and guided interaction loops to create agents that simulate planning\, decision-making\, and communication workflows. No coding or advanced access is required. Participants will practice designing task-specific prompts\, simulating agent autonomy using flipped interaction patterns\, and evaluating agent output for risk and effectiveness. This course makes agentic AI accessible to all learners through practical\, scenario-based exercises using tools they already have.Delivery Method: Individual webcastCPE Credit: 2Program Level: BasicThis course is being offered by a learning partner. You may access the Surgent platform through the My CPE page on vscpa.com after purchase\n 
CLASS:PUBLIC
END:VEVENT
END:VCALENDAR
