BEGIN:VCALENDAR
VERSION:2.0
PRODID:
BEGIN:VEVENT
UID:357709imp
DTSTAMP:20260423T215023Z
DTSTART:20270211T180000Z
DTEND:20270211T200000Z
SUMMARY: Surgent's A Guide to the 401(k): Concepts and Strategies
DESCRIPTION: This course delivers a comprehensive\, practitioner-focused analysis of 401(k) plans\, emphasizing rules\, planning opportunities\, and common execution risks faced by employees\, executives\, and business owners. Participants will develop a detailed understanding of plan mechanics\, contribution limits\, testing requirements\, and timing rules\, with particular attention to avoiding overfunding\, coordinating multiple plans\, and maximizing employer benefits.

The course examines employee and employer contribution structures\, including elective deferrals\, catch-up contributions\, after-tax contributions\, matching and profit-sharing formulas\, and special coordination issues for executives\, multiple employers\, and solo 401(k) plans. Participants learn how to identify and implement advanced strategies such as Roth vs. traditional optimization\, mega Roth planning\, in-plan conversions\, and effective use of employer stock through net unrealized appreciation (NUA).

Distribution planning is a core focus\, including tax treatment\, early distribution penalties\, rollover mechanics\, and basis tracking across pre-tax\, Roth\, and after-tax sources. The course emphasizes practical decision-making when evaluating lump sum vs. annuity options\, executing rollovers correctly\, managing withholding and tax payments\, and applying penalty exceptions. Special scenarios\, including inherited 401(k) accounts\, trust beneficiaries\, and Roth-specific timing rules\, are also addressed.Delivery Method: Individual webcastCPE Credit: 2Program Level: BasicThis course is being offered by a learning partner. You may access the Surgent platform through the My CPE page on vscpa.com after purchase\n 
CLASS:PUBLIC
END:VEVENT
END:VCALENDAR
