BEGIN:VCALENDAR
VERSION:2.0
PRODID:
BEGIN:VEVENT
UID:357689imp
DTSTAMP:20260425T102504Z
DTSTART:20270210T180000Z
DTEND:20270210T200000Z
SUMMARY: Surgent's Ensure Your Accounting Team Is Operating at Peak Performance Through Engagement and Motivation
DESCRIPTION: Effective teamwork pays its own way by creating greater productivity and profitability in any accounting organization. A team of people working cooperatively can produce more than the sum of individual members working alone. One good idea stimulates another &mdash\; but only if the team members are engaged and motivated to do so. Teamwork is inhibited in today's high-stress and changing accounting regulatory environment. Integrated into this informative yet pragmatic seminar are tried-and-true motivational principles for the realities of today's changing accounting workplace. It's not easy\, but it can be done. You will learn how to form\, motivate\, steer\, and get greater results from all team members by understanding what makes them tick and strategizing approaches to engage all team members.Delivery Method: Individual webcastCPE Credit: 2Program Level: BasicThis course is being offered by a learning partner. You may access the Surgent platform through the My CPE page on vscpa.com after purchase\n 
CLASS:PUBLIC
END:VEVENT
END:VCALENDAR
