BEGIN:VCALENDAR
VERSION:2.0
PRODID:
BEGIN:VEVENT
UID:357685imp
DTSTAMP:20260424T071546Z
DTSTART:20270210T150000Z
DTEND:20270210T170000Z
SUMMARY: Surgent's A Complete Tax Guide to Exit Planning
DESCRIPTION: When exit planning\, it is important to weigh various issues\, including tax implications\, to achieve an effective management and/or ownership change. Many envision tax-free reorganizations being the most preferable structure to avoid capital gains tax\, but the opportunities come at a cost to the seller. This course will provide a well-rounded discussion of the various strategies to consider when advising on exiting a business.Delivery Method: Individual webcastCPE Credit: 2Program Level: IntermediateThis course is being offered by a learning partner. You may access the Surgent platform through the My CPE page on vscpa.com after purchase\n 
CLASS:PUBLIC
END:VEVENT
END:VCALENDAR
