BEGIN:VCALENDAR
VERSION:2.0
PRODID:
BEGIN:VEVENT
UID:357681imp
DTSTAMP:20260423T200111Z
DTSTART:20270209T180000Z
DTEND:20270209T200000Z
SUMMARY: Surgent's Understanding S Corporation Taxation: Shareholder Basis\, AAA\, and Retained Earnings
DESCRIPTION: Even though they have been around for several years\, the tax laws pertaining to S corporations remain some of the more difficult areas of the Internal Revenue Code. Given the rising popularity of S corporations\, understanding how shareholder basis and the equity section of the balance sheet work together for tax purposes is imperative for nearly any tax practitioner. In this course\, we will discuss this relationship. Using examples and illustrations\, we will show how contributions\, operating transactions\, and distributions affect shareholder basis as well as equity.Delivery Method: Individual webcastCPE Credit: 2Program Level: BasicThis course is being offered by a learning partner. You may access the Surgent platform through the My CPE page on vscpa.com after purchase\n 
CLASS:PUBLIC
END:VEVENT
END:VCALENDAR
