BEGIN:VCALENDAR
VERSION:2.0
PRODID:
BEGIN:VEVENT
UID:357677imp
DTSTAMP:20260423T202828Z
DTSTART:20270209T180000Z
DTEND:20270209T213000Z
SUMMARY: Surgent's Fundamentals of Public Charity Taxation and Form 990
DESCRIPTION: If you work for or with not-for-profit entities and have questions about the IRS Form 990\, Return of Organization Exempt From Income Tax\, and the related schedules\, this is the course for you! The program focuses on common issues that professionals will likely encounter when they prepare the Form 990 and additional tax rules applicable to not-for-profits.Delivery Method: Individual webcastCPE Credit: 4Program Level: IntermediateThis course is being offered by a learning partner. You may access the Surgent platform through the My CPE page on vscpa.com after purchase\n 
CLASS:PUBLIC
END:VEVENT
END:VCALENDAR
