BEGIN:VCALENDAR
VERSION:2.0
PRODID:
BEGIN:VEVENT
UID:357652imp
DTSTAMP:20260422T214814Z
DTSTART:20270204T183000Z
DTEND:20270204T220000Z
SUMMARY: Surgent's Essential Depreciation and Expensing Update
DESCRIPTION: This course offers a comprehensive analysis of the evolving rules surrounding depreciation\, amortization\, and property transactions\, incorporating the latest inflation adjustments and technical corrections. It offers practical guidance through real-world examples and case studies to clarify complex rules and help professionals stay compliant and informed amid ongoing change.Delivery Method: Individual webcastCPE Credit: 4Program Level: IntermediateThis course is being offered by a learning partner. You may access the Surgent platform through the My CPE page on vscpa.com after purchase\n 
CLASS:PUBLIC
END:VEVENT
END:VCALENDAR
