BEGIN:VCALENDAR
VERSION:2.0
PRODID:
BEGIN:VEVENT
UID:357651imp
DTSTAMP:20260424T224331Z
DTSTART:20270204T180000Z
DTEND:20270204T200000Z
SUMMARY: Surgent's Engaging and Managing Young Professionals
DESCRIPTION: Younger professionals comprise a significant part of the accounting and finance workforce. Whether you are an owner of a small accounting practice or a manager in a multinational accounting firm\, it is important to understand the characteristics and expectations of this large segment of the workforce. Research reveals that many of the common stereotypes surrounding young professionals are unfounded and counterproductive. This course provides an understanding of who young professionals are in comparison to their predecessors\, the Gen-Xers and baby boomers. Equally important\, the presentation will look at common myths regarding young professionals and why understanding this class of employees provides opportunities for your organization to grow and succeed.Delivery Method: Individual webcastCPE Credit: 2Program Level: BasicThis course is being offered by a learning partner. You may access the Surgent platform through the My CPE page on vscpa.com after purchase\n 
CLASS:PUBLIC
END:VEVENT
END:VCALENDAR
