BEGIN:VCALENDAR
VERSION:2.0
PRODID:
BEGIN:VEVENT
UID:357649imp
DTSTAMP:20260424T154058Z
DTSTART:20270204T183000Z
DTEND:20270204T220000Z
SUMMARY: Surgent's Getting Ready for Busy Season: Key Changes Every Tax Practitioner Should Know
DESCRIPTION: Getting ready for busy season involves not only knowing what's new for the current year but also understanding how the changing limits\, phaseouts\, and other rules apply to current-year returns. With OBBBA enactment over the past few years\, the present course will constitute a one-stop "shop" that brings you the essential individual tax information. In addition\, this course provides an up-to-date review of important tax form changes\, new tax forms\, new limitations\, key developments as they are reflected in the IRS forms\, IRS filing issues\, and deadlines that will be invaluable to attendees who prepare tax returns during busy season.Delivery Method: Individual webcastCPE Credit: 4Program Level: IntermediateThis course is being offered by a learning partner. You may access the Surgent platform through the My CPE page on vscpa.com after purchase\n 
CLASS:PUBLIC
END:VEVENT
END:VCALENDAR
