BEGIN:VCALENDAR
VERSION:2.0
PRODID:
BEGIN:VEVENT
UID:357622imp
DTSTAMP:20260424T003109Z
DTSTART:20270201T150000Z
DTEND:20270201T170000Z
SUMMARY: Surgent's Top Business Tax Planning Strategies
DESCRIPTION: Business strategies for 2026 are based on important tax changes made in the One Big Beautiful Bill Act (OBBBA). There are a number of important business tax changes that can be used to develop tax planning strategies that have great advantages for businesses and their owners. This program covers many important business tax changes and the implications for tax planning founded on them.Delivery Method: Individual webcastCPE Credit: 2Program Level: BasicThis course is being offered by a learning partner. You may access the Surgent platform through the My CPE page on vscpa.com after purchase\n 
CLASS:PUBLIC
END:VEVENT
END:VCALENDAR
