BEGIN:VCALENDAR
VERSION:2.0
PRODID:
BEGIN:VEVENT
UID:357618imp
DTSTAMP:20260423T170406Z
DTSTART:20270129T150000Z
DTEND:20270129T170000Z
SUMMARY: Surgent's Comparing and Contrasting Retirement Plans for Small- and Medium-Sized Businesses
DESCRIPTION: Clients often ask accounting and finance professionals whether they have the "best" pension plan and whether they are using it to its maximum advantage. This program explains how various pension plans work and analyzes why a small or medium-sized business owner would choose one plan over another.Delivery Method: Individual webcastCPE Credit: 2Program Level: IntermediateThis course is being offered by a learning partner. You may access the Surgent platform through the My CPE page on vscpa.com after purchase\n 
CLASS:PUBLIC
END:VEVENT
END:VCALENDAR
