BEGIN:VCALENDAR
VERSION:2.0
PRODID:
BEGIN:VEVENT
UID:357568imp
DTSTAMP:20260424T010752Z
DTSTART:20270122T180000Z
DTEND:20270122T200000Z
SUMMARY: Surgent's The Accounting Leaders’ Survival Guide - Strategies for Managing Organizational Change
DESCRIPTION: Our country and our accounting methods have undergone huge changes in the previous few years\, most of it challenging. Individuals and entire businesses have been left reeling by new tax regulations\, doing more with less\, and employment restructuring. Organizations must adjust quickly\; notwithstanding how painful these changes have been. This course instructs accounting managers on how to deal with change and stress in the workplace. Before it affects them in a negative way\, the accounting professional will learn how to best manage the changing work environment and the stress that comes with it. "The first wealth is health\," remarked Ralph Waldo Emerson\, but for many of us\, stressful jobs are putting our health at jeopardy.Delivery Method: Individual webcastCPE Credit: 2Program Level: BasicThis course is being offered by a learning partner. You may access the Surgent platform through the My CPE page on vscpa.com after purchase\n 
CLASS:PUBLIC
END:VEVENT
END:VCALENDAR
