BEGIN:VCALENDAR
VERSION:2.0
PRODID:
BEGIN:VEVENT
UID:357552imp
DTSTAMP:20260425T145120Z
DTSTART:20270121T140000Z
DTEND:20270121T173000Z
SUMMARY: Surgent's Accountability and Action
DESCRIPTION: Good managers know how to delegate\, but it can be a challenge to manage employees who are more interested in passing the buck than being responsible. Lack of ownership and responsibility can bog down processes and shut down projects. This workshop will help you create a game plan for building a culture of accountability with your team.Delivery Method: Individual webcastCPE Credit: 4Program Level: BasicThis course is being offered by a learning partner. You may access the Surgent platform through the My CPE page on vscpa.com after purchase\n 
CLASS:PUBLIC
END:VEVENT
END:VCALENDAR
