BEGIN:VCALENDAR
VERSION:2.0
PRODID:
BEGIN:VEVENT
UID:357503imp
DTSTAMP:20260425T115714Z
DTSTART:20270114T140000Z
DTEND:20270114T220000Z
SUMMARY: Surgent's Advanced Individual Income Tax Return Issues
DESCRIPTION: Most accounting and financial professionals have been preparing individual income tax returns for years\, and while many of the returns are easy\, there are always a number of issues that come up in busy season of which experienced practitioners wish they had more knowledge. This course is designed to explore the tough tax issues for experienced practitioners and help them provide better planning strategies and results for their higher income clients.Delivery Method: Individual webcastCPE Credit: 8Program Level: AdvancedThis course is being offered by a learning partner. You may access the Surgent platform through the My CPE page on vscpa.com after purchase\n 
CLASS:PUBLIC
END:VEVENT
END:VCALENDAR
