BEGIN:VCALENDAR
VERSION:2.0
PRODID:
BEGIN:VEVENT
UID:357494imp
DTSTAMP:20260423T195852Z
DTSTART:20270113T140000Z
DTEND:20270113T173000Z
SUMMARY: Surgent's Federal Tax Update
DESCRIPTION: Both businesses and individual clients face major changes as a result of new legislation\, and tax professionals face the considerable challenge of delivering effective planning advice and services to address this myriad of recent developments. This course addresses this challenge and also encompasses the latest cases and rulings applicable to individual and business clients.  Continually updated to reflect enacted legislation.  Please Note: Due to content overlap\, it is recommended that this course NOT be taken together with BIT4.Delivery Method: Individual webcastCPE Credit: 4Program Level: UpdateThis course is being offered by a learning partner. You may access the Surgent platform through the My CPE page on vscpa.com after purchase\n 
CLASS:PUBLIC
END:VEVENT
END:VCALENDAR
