BEGIN:VCALENDAR
VERSION:2.0
PRODID:
BEGIN:VEVENT
UID:357488imp
DTSTAMP:20260424T003037Z
DTSTART:20270113T140000Z
DTEND:20270113T173000Z
SUMMARY: Surgent's Preparing and Writing Findings in Yellow Book and Single Audits
DESCRIPTION: Reporting findings under the Yellow Book and single audit standards comes with unique rules - but mastering them is easier than you think. This course gives you the tools and techniques to prepare\, write\, and present findings that meet the GAO and OMB requirements while sparking meaningful improvements for your clients. You'll learn exactly what to report\, how to report it\, and where to report it so you can deliver results with clarity\, compliance\, and impact.Delivery Method: Individual webcastCPE Credit: 4Program Level: IntermediateThis course is being offered by a learning partner. You may access the Surgent platform through the My CPE page on vscpa.com after purchase\n 
CLASS:PUBLIC
END:VEVENT
END:VCALENDAR
