BEGIN:VCALENDAR
VERSION:2.0
PRODID:
BEGIN:VEVENT
UID:357437imp
DTSTAMP:20260424T022045Z
DTSTART:20270106T160000Z
DTEND:20270107T000000Z
SUMMARY: Surgent's Tax Forms Boot Camp: LLCs\, Partnerships\, and S Corporations
DESCRIPTION: The course provides a comprehensive\, hands-on\, pencil pushing understanding of the preparation of both S corporation and partnership/LLC tax returns\, along with the underlying laws\, regulations\, etc. The course uses the basic concepts underlying the two main types of business returns: 1120S and 1065 as building blocks for more complex concepts tax preparers should be aware of. The theoretical concepts get illustrated in comprehensive examples that incorporate the most up-to-date law changes and provisions.Delivery Method: Individual webcastCPE Credit: 8Program Level: BasicThis course is being offered by a learning partner. You may access the Surgent platform through the My CPE page on vscpa.com after purchase\n 
CLASS:PUBLIC
END:VEVENT
END:VCALENDAR
