BEGIN:VCALENDAR
VERSION:2.0
PRODID:
BEGIN:VEVENT
UID:357423imp
DTSTAMP:20260423T213044Z
DTSTART:20270105T180000Z
DTEND:20270105T213000Z
SUMMARY: Surgent's Guide to Payroll Taxes and 1099 Issues
DESCRIPTION: Employment taxes are often overlooked as an area where more planning may be effective. Payroll taxes have become an increasing burden for the average business and IRS penalties for noncompliance have risen dramatically in recent years. As a result\, they have also been subject to employer incentives. The Service has announced that uncovering noncompliance by employers ranks high on its audit list. This course presents an overview of employee versus independent contractor criteria\, the federal payroll taxes form\, Form 1099\, and related compliance issues.Delivery Method: Individual webcastCPE Credit: 4Program Level: BasicThis course is being offered by a learning partner. You may access the Surgent platform through the My CPE page on vscpa.com after purchase\n 
CLASS:PUBLIC
END:VEVENT
END:VCALENDAR
