BEGIN:VCALENDAR
VERSION:2.0
PRODID:
BEGIN:VEVENT
UID:357421imp
DTSTAMP:20260422T232931Z
DTSTART:20270105T140000Z
DTEND:20270105T173000Z
SUMMARY: Surgent's Gaining a Competitive Advantage: Critical Skills for CFOs and Controllers
DESCRIPTION: All organizations are looking for ways to gain an advantage over the competition. This practical and interactive session will present a toolkit of ideas to help CFOs\, controllers\, and finance professionals better position their organizations for the future. We know change is occurring at an exponential rate\, and that has proven to be the case in all areas of finance\, management\, and leadership over the past year. The course deals with these new issues and will continue to be updated as necessary throughout the year. This year\, we will take a special interest in the opportunities and threats of AI for the finance professional. Become the "financial hero" of your organization and make a positive impact on the bottom line.Delivery Method: Individual webcastCPE Credit: 4Program Level: IntermediateThis course is being offered by a learning partner. You may access the Surgent platform through the My CPE page on vscpa.com after purchase\n 
CLASS:PUBLIC
END:VEVENT
END:VCALENDAR
