BEGIN:VCALENDAR
VERSION:2.0
PRODID:
BEGIN:VEVENT
UID:357384imp
DTSTAMP:20260423T162956Z
DTSTART:20261229T150000Z
DTEND:20261229T170000Z
SUMMARY: Surgent's Understanding S Corporation Taxation: Compensation Issues and Entity-Level Taxes
DESCRIPTION: Even though they have been around for several years\, the tax laws pertaining to S corporations remain some of the more difficult areas of the Internal Revenue Code. In this course\, we will examine how S corporations break away from the normal tax rules for flow-through entities. We will explore which employee benefits are disallowed for S corporation shareholders\, as well as which taxes are assessed at the entity level. Finally\, we will discuss how state level taxation may have changed permanently with the addition of PTE elections.Delivery Method: Individual webcastCPE Credit: 2Program Level: IntermediateThis course is being offered by a learning partner. You may access the Surgent platform through the My CPE page on vscpa.com after purchase\n 
CLASS:PUBLIC
END:VEVENT
END:VCALENDAR
