BEGIN:VCALENDAR
VERSION:2.0
PRODID:
BEGIN:VEVENT
UID:357374imp
DTSTAMP:20260423T230139Z
DTSTART:20261228T140000Z
DTEND:20261228T220000Z
SUMMARY: Surgent's Preparing Not-for-Profit Financial Statements
DESCRIPTION: Accurate and effective financial reporting is essential for every not-for-profit organization\, and it requires a solid understanding of today's reporting requirements. This course equips professionals with the knowledge and tools to confidently navigate not-for-profit accounting standards. You'll learn how requirements are applied in financial statements\, explore available reporting options\, and gain clarity on key areas such as net assets\, contributions\, and functional expense reporting. Through a highly illustrative format and over 30 targeted exercises\, this course provides a practical\, hands-on approach to building expertise in not-for-profit accounting and reporting.Delivery Method: Individual webcastCPE Credit: 8Program Level: IntermediateThis course is being offered by a learning partner. You may access the Surgent platform through the My CPE page on vscpa.com after purchase\n 
CLASS:PUBLIC
END:VEVENT
END:VCALENDAR
