BEGIN:VCALENDAR
VERSION:2.0
PRODID:
BEGIN:VEVENT
UID:357357imp
DTSTAMP:20260424T054810Z
DTSTART:20261224T180000Z
DTEND:20261224T213000Z
SUMMARY: Surgent's The Essential Multistate Tax Update
DESCRIPTION: With the largest overhaul of the federal income tax code in 30 years and the repeal of the physical presence nexus standards for sales tax in the Wayfair case\, the states are working fast and furious to overhaul their tax laws. As some states scramble to fund their budgets\, they continue to look for additional forms of revenue. Plan to attend this fast-paced class that covers developing topics in state taxation\, ranging from individuals to pass-through entities to corporate taxpayers. This class will focus on issues of small and middle-market companies and offer guidance for minimizing tax liability and negotiating the treacherous waters of compliance.Delivery Method: Individual webcastCPE Credit: 4Program Level: UpdateThis course is being offered by a learning partner. You may access the Surgent platform through the My CPE page on vscpa.com after purchase\n 
CLASS:PUBLIC
END:VEVENT
END:VCALENDAR
