BEGIN:VCALENDAR
VERSION:2.0
PRODID:
BEGIN:VEVENT
UID:357355imp
DTSTAMP:20260423T015341Z
DTSTART:20261224T140000Z
DTEND:20261224T173000Z
SUMMARY: Surgent's Top Ten Questions from Partnership Clients Regarding the Section 754 Election
DESCRIPTION: This program is an in-depth analysis of the Section 754 election and the two adjustments associated with the election under Section 743(b) and Section 734(b). The 754 election is a highly technical provision that provides great tax benefits to the owners of the partnership\, and particularly in the case of Section 743(b)\, a new partner. This course covers the most common questions encountered by practitioners in their daily practices. The program includes a number of examples that provide insights into the mechanics of the two adjustments that follow upon a Section 754 election.Delivery Method: Individual webcastCPE Credit: 4Program Level: IntermediateThis course is being offered by a learning partner. You may access the Surgent platform through the My CPE page on vscpa.com after purchase\n 
CLASS:PUBLIC
END:VEVENT
END:VCALENDAR
