BEGIN:VCALENDAR
VERSION:2.0
PRODID:
BEGIN:VEVENT
UID:357330imp
DTSTAMP:20260425T021617Z
DTSTART:20261222T190000Z
DTEND:20261222T210000Z
SUMMARY: Surgent's New and Expanded Tax Benefits Associated with Section 1202 – Qualified Small Business Stock
DESCRIPTION: This program reviews and analyzes the important changes made by the One Big Beautiful Bill Act (OBBBA) to qualified small business stock (QSBS) covered under Section 1202. Effective for stock issued after July 4\, 2025\, there are important changes that make Section 1202 much more appealing to clients willing to run the risks associated with doing business as a C corporation. These enhanced provisions could potentially lead to exclusion of capital gains if very strict compliance rules are followed. Section 1202 application is particularly attractive for start-ups and entrepreneurial endeavors. For taxpayers willing to confront the technical challenges of this provision\, Section 1202 may produce impressive tax advantages.Delivery Method: Individual webcastCPE Credit: 2Program Level: BasicThis course is being offered by a learning partner. You may access the Surgent platform through the My CPE page on vscpa.com after purchase\n 
CLASS:PUBLIC
END:VEVENT
END:VCALENDAR
