BEGIN:VCALENDAR
VERSION:2.0
PRODID:
BEGIN:VEVENT
UID:357318imp
DTSTAMP:20260423T090443Z
DTSTART:20261221T180000Z
DTEND:20261221T200000Z
SUMMARY: Surgent's Introduction to Charitable Gifting for Individual Taxpayers
DESCRIPTION: This course is designed to provide a comprehensive understanding of charitable gifting strategies and their implications for individual taxpayers. Participants will explore the fundamentals of charitable giving\, including the tax benefits\, legal considerations\, and planning opportunities available under current tax law. The course will cover the types of organizations that qualify for charitable contributions\, the income and estate tax treatment of gifts\, and the various methods of structuring charitable donations to maximize tax efficiency. Attendees will learn about specific charitable gifting techniques such as donor-advised funds\, charitable remainder trusts\, and qualified charitable distributions from retirement accounts. The course will also examine tax deduction limits\, substantiation requirements\, and the impact of state tax credits on charitable giving. By the end of the course\, participants will be equipped with the knowledge and tools to guide clients in implementing effective charitable giving strategies that align with their financial and philanthropic goals.Delivery Method: Individual webcastCPE Credit: 2Program Level: BasicThis course is being offered by a learning partner. You may access the Surgent platform through the My CPE page on vscpa.com after purchase\n 
CLASS:PUBLIC
END:VEVENT
END:VCALENDAR
