BEGIN:VCALENDAR
VERSION:2.0
PRODID:
BEGIN:VEVENT
UID:357251imp
DTSTAMP:20260424T155614Z
DTSTART:20261215T160000Z
DTEND:20261215T180000Z
SUMMARY: Surgent's Social Security: Dispelling Common Myths with Essential Truths
DESCRIPTION: For roughly 90% of American retirees\, Social Security income will be the foundation of their retirement income. Yet\, many are ill-prepared and lack understanding of the critical aspects of making an informed claiming decision. Further challenged to separate fact from fiction\, consumers crave accurate information from knowledgeable professionals to make the most out of these coveted monthly benefits. This course dispels common myths about Social Security that lead to confusion and replaces them with the truth to an empowered retirement. Help your clients navigate their claiming age decisions with greater confidence\, equipped with the essential truths they should consider before pushing the Social Security "on" button.Delivery Method: Individual webcastCPE Credit: 2Program Level: BasicThis course is being offered by a learning partner. You may access the Surgent platform through the My CPE page on vscpa.com after purchase\n 
CLASS:PUBLIC
END:VEVENT
END:VCALENDAR
