BEGIN:VCALENDAR
VERSION:2.0
PRODID:
BEGIN:VEVENT
UID:357196imp
DTSTAMP:20260423T180654Z
DTSTART:20261210T183000Z
DTEND:20261210T220000Z
SUMMARY: Surgent's Understanding and Testing Control and Compliance in a Single Audit
DESCRIPTION: Single audits bring unique control and compliance requirements that differ from GAAS\, often leaving auditors uncertain about where their responsibilities truly begin and end. This course removes that uncertainty by clearly outlining auditor responsibilities and providing practical guidance for applying single audit requirements with confidence. Through 20 focused\, hands-on exercises\, you'll strengthen your skills in control and compliance testing and gain the insight needed to perform single audits more efficiently and effectively.Delivery Method: Individual webcastCPE Credit: 4Program Level: IntermediateThis course is being offered by a learning partner. You may access the Surgent platform through the My CPE page on vscpa.com after purchase\n 
CLASS:PUBLIC
END:VEVENT
END:VCALENDAR
