BEGIN:VCALENDAR
VERSION:2.0
PRODID:
BEGIN:VEVENT
UID:357187imp
DTSTAMP:20260424T155713Z
DTSTART:20261209T180000Z
DTEND:20261209T200000Z
SUMMARY: Surgent's The Accountant as the Expert Witness
DESCRIPTION: As litigation becomes more complex\, attorneys are relying more on accountants to serve as consulting experts or expert witnesses at trial. Serving as an expert witness is not as difficult as you might expect. Accounting experts educate lawyers and jurors on issues such as valuation\, tax liability\, and forensics. Learn how accountants become expert witnesses\, the role they play during pre-litigation through to trial\, and the techniques experts employ to avoid challenges from opposing counsel.Delivery Method: Individual webcastCPE Credit: 2Program Level: BasicThis course is being offered by a learning partner. You may access the Surgent platform through the My CPE page on vscpa.com after purchase\n 
CLASS:PUBLIC
END:VEVENT
END:VCALENDAR
