BEGIN:VCALENDAR
VERSION:2.0
PRODID:
BEGIN:VEVENT
UID:357182imp
DTSTAMP:20260424T125731Z
DTSTART:20261209T200000Z
DTEND:20261209T220000Z
SUMMARY: Surgent's Getting Ready for Busy Season: Review Individual Tax Form Changes
DESCRIPTION: Getting ready for busy season involves not only knowing the tax rules for 2026 but also knowing how those rules are incorporated into the IRS tax forms practitioners will be using to prepare 2026 tax returns. This course provides preparer attendees with an up-to-date review of important new tax forms\, key tax developments\, and tax law changes as they are reflected in IRS forms for 2026 and IRS filing issues and deadlines as they relate to 2026.Delivery Method: Individual webcastCPE Credit: 2Program Level: IntermediateThis course is being offered by a learning partner. You may access the Surgent platform through the My CPE page on vscpa.com after purchase\n 
CLASS:PUBLIC
END:VEVENT
END:VCALENDAR
