BEGIN:VCALENDAR
VERSION:2.0
PRODID:
BEGIN:VEVENT
UID:357172imp
DTSTAMP:20260424T021931Z
DTSTART:20261208T140000Z
DTEND:20261208T173000Z
SUMMARY: Surgent's Auditing 401(k) Plans: Critical Issues and Annual Update
DESCRIPTION: Due to increasing scrutiny in the employee benefit plan area\, it is imperative for auditors of 401(k) plans to remain up to date on the rules and regulations that may impact the audit engagement.

In this course\, auditors will enhance their knowledge by understanding the changes affecting audit procedures and reporting in accordance with recently issued Statements on Auditing Standards (SASs)\, identifying best practices\, and performing efficient audit engagements.Delivery Method: Individual webcastCPE Credit: 4Program Level: BasicThis course is being offered by a learning partner. You may access the Surgent platform through the My CPE page on vscpa.com after purchase\n 
CLASS:PUBLIC
END:VEVENT
END:VCALENDAR
