BEGIN:VCALENDAR
VERSION:2.0
PRODID:
BEGIN:VEVENT
UID:357157imp
DTSTAMP:20260425T033321Z
DTSTART:20261207T183000Z
DTEND:20261207T220000Z
SUMMARY: Surgent's Successful Communication
DESCRIPTION: Technology has created numerous ways for us to communicate with each other - but it's also increased the number of ways in which the message can get garbled. Effective communications skills are crucial to successful management. Learn how to control your message with clear communications strategies. You'll learn to recognize communication barriers\, assess styles and behaviors\, and learn how to listen more effectively as well.Delivery Method: Individual webcastCPE Credit: 4Program Level: BasicThis course is being offered by a learning partner. You may access the Surgent platform through the My CPE page on vscpa.com after purchase\n 
CLASS:PUBLIC
END:VEVENT
END:VCALENDAR
