BEGIN:VCALENDAR
VERSION:2.0
PRODID:
BEGIN:VEVENT
UID:357141imp
DTSTAMP:20260424T134520Z
DTSTART:20261204T150000Z
DTEND:20261204T230000Z
SUMMARY: Surgent's Preparing Individual Tax Returns for New Staff and Paraprofessionals
DESCRIPTION: The objective of this course is to train new staff accountants\, data processing employees\, paraprofessionals\, and bookkeepers to prepare a moderately complex federal individual income tax return (Form 1040). Over the years\, thousands of new staff have received practical\, hands-on experience to become familiar with tax forms. This course covers the latest tax law changes\, making it essential for your new staff.Delivery Method: Individual webcastCPE Credit: 8Program Level: BasicThis course is being offered by a learning partner. You may access the Surgent platform through the My CPE page on vscpa.com after purchase\n 
CLASS:PUBLIC
END:VEVENT
END:VCALENDAR
