BEGIN:VCALENDAR
VERSION:2.0
PRODID:
BEGIN:VEVENT
UID:357139imp
DTSTAMP:20260423T032101Z
DTSTART:20261204T190000Z
DTEND:20261204T210000Z
SUMMARY: Surgent's Taxation of the Mobile Workforce
DESCRIPTION: Today's workforce looks a lot different than it used to. With more people working from home and across state lines\, employers must examine withholding and unemployment laws in a new light. In this course\, we will examine tried and true rules in this area and examine statutes that are still developing. Using real-life examples and discussion\, we will examine state laws on reciprocity and residency requirements. We will also look at what to do when state laws are silent or conflict on a particular issue so you can keep your clients in compliance and be well-prepared for the questions that will come your way in these ever-changing times.Delivery Method: Individual webcastCPE Credit: 2Program Level: UpdateThis course is being offered by a learning partner. You may access the Surgent platform through the My CPE page on vscpa.com after purchase\n 
CLASS:PUBLIC
END:VEVENT
END:VCALENDAR
