BEGIN:VCALENDAR
VERSION:2.0
PRODID:
BEGIN:VEVENT
UID:357138imp
DTSTAMP:20260425T004739Z
DTSTART:20261204T150000Z
DTEND:20261204T170000Z
SUMMARY: Surgent's Taxation of Tips and Overtime Under OBBBA
DESCRIPTION: Arguably the most discussed topics to come out of the  One Big Beautiful Bill Act (OBBBA) are the taxation of tips and overtime. Practitioners need to understand these provisions now\, as they are effective for 2025 tax returns. This program provides practitioners with the background currently available to advise clients regarding these two important tax developments. Both employers and employees need to understand these timely changes to taxation.Delivery Method: Individual webcastCPE Credit: 2Program Level: BasicThis course is being offered by a learning partner. You may access the Surgent platform through the My CPE page on vscpa.com after purchase\n 
CLASS:PUBLIC
END:VEVENT
END:VCALENDAR
