BEGIN:VCALENDAR
VERSION:2.0
PRODID:
BEGIN:VEVENT
UID:357096imp
DTSTAMP:20260423T151513Z
DTSTART:20261201T140000Z
DTEND:20261201T160000Z
SUMMARY: Surgent's The Road Ahead: Critical OBBBA Changes Impacting Accounting and Finance Professionals
DESCRIPTION: It is important for accounting and finance practitioners to help their clients understand and apply the many new provisions of OBBBA. Many of these changes are effective for the 2025 tax year and beyond. This program is an introduction to and review of some of these critical changes and their impact on taxpayers. 

This program is a two-hour review and analysis of what we consider some of the most current and important changes from the OBBBA. If you want the latest OBBBA information to relay to your clients\, this course is for you. 
Delivery Method: Individual webcastCPE Credit: 2Program Level: BasicThis course is being offered by a learning partner. You may access the Surgent platform through the My CPE page on vscpa.com after purchase\n 
CLASS:PUBLIC
END:VEVENT
END:VCALENDAR
