BEGIN:VCALENDAR
VERSION:2.0
PRODID:
BEGIN:VEVENT
UID:357093imp
DTSTAMP:20260425T101958Z
DTSTART:20261201T190000Z
DTEND:20261201T210000Z
SUMMARY: Surgent's IT Systems and Data Management
DESCRIPTION: Explore the critical intersections between information technology (IT) systems and data management through this specialized CPE course for accounting professionals. This session covers business resiliency and disaster recovery strategies\, change management processes\, and much more. Through interactive discussions and hands-on activities\, participants will learn how to enhance their organization's IT framework while ensuring robust data collection and storage. Equip yourself to oversee IT systems with confidence and reinforce data integrity and system availability.Delivery Method: Individual webcastCPE Credit: 2Program Level: BasicThis course is being offered by a learning partner. You may access the Surgent platform through the My CPE page on vscpa.com after purchase\n 
CLASS:PUBLIC
END:VEVENT
END:VCALENDAR
