BEGIN:VCALENDAR
VERSION:2.0
PRODID:
BEGIN:VEVENT
UID:357062imp
DTSTAMP:20260423T042152Z
DTSTART:20261127T180000Z
DTEND:20261127T213000Z
SUMMARY: Surgent's Guide and Update to Compilations\, Reviews\, and Preparations
DESCRIPTION: Specifically designed for preparation\, compilation\, and review practitioners\, this course provides a comprehensive review and hands-on application for performing financial statement preparation\, compilation\, and review engagements. You will learn the ins and outs of applying SSARS No. 21\, Clarification and Recodification\, as well as additional guidance related to SSARS engagements through the issuance of SSARS Nos. 22-27 by the AICPA's Accounting and Review Services Committee (ARSC). The course also reviews recent peer review feedback on SSARS engagements\, providing insights on how to successfully apply this guidance.

Not only will this course bring you up to date on SSARSs requirements and guidance\, but more importantly\, it will provide you with practical examples and illustrations to help you effectively and efficiently perform compilation\, preparation\, and review engagements.Delivery Method: Individual webcastCPE Credit: 4Program Level: UpdateThis course is being offered by a learning partner. You may access the Surgent platform through the My CPE page on vscpa.com after purchase\n 
CLASS:PUBLIC
END:VEVENT
END:VCALENDAR
