BEGIN:VCALENDAR
VERSION:2.0
PRODID:
BEGIN:VEVENT
UID:357057imp
DTSTAMP:20260425T102509Z
DTSTART:20261125T160000Z
DTEND:20261125T180000Z
SUMMARY: Surgent's Unconscious Bias for Managers\, Supervisors\, and Executives
DESCRIPTION: Understanding unconscious bias is key to creating an inclusive workplace and to making the best business decisions. This course explores the concept of unconscious bias\, the science behind it\, and how it can affect the way employers hire\, evaluate\, and treat employees. We will also discuss strategies employers can use to reduce unconscious bias and create a more inclusive workplace.Delivery Method: Individual webcastCPE Credit: 2Program Level: OverviewThis course is being offered by a learning partner. You may access the Surgent platform through the My CPE page on vscpa.com after purchase\n 
CLASS:PUBLIC
END:VEVENT
END:VCALENDAR
