BEGIN:VCALENDAR
VERSION:2.0
PRODID:
BEGIN:VEVENT
UID:357042imp
DTSTAMP:20260424T160928Z
DTSTART:20261124T140000Z
DTEND:20261124T220000Z
SUMMARY: Surgent's Forms 1120-S and 1065 Return Review Boot Camp for New and Experienced Reviewers
DESCRIPTION: Most review techniques developed by professionals are self-taught and fine-tuned via experience. Yet how does one start? The purpose of this course is to give both new and seasoned reviewers additional and advanced procedures via a multitude of checklists to more thoroughly review S corporation and partnership tax returns. Its emphasis is not planning\; rather\, it is to develop a strategy to properly review a return effectively and thoroughly. The course includes dozens of "practice tips for new reviewers" and is updated for impacts of newly enacted legislation.Delivery Method: Individual webcastCPE Credit: 8Program Level: IntermediateThis course is being offered by a learning partner. You may access the Surgent platform through the My CPE page on vscpa.com after purchase\n 
CLASS:PUBLIC
END:VEVENT
END:VCALENDAR
