BEGIN:VCALENDAR
VERSION:2.0
PRODID:
BEGIN:VEVENT
UID:357007imp
DTSTAMP:20260422T215107Z
DTSTART:20261119T140000Z
DTEND:20261119T220000Z
SUMMARY: Surgent's Handbook for Mastering Basis\, Distributions\, and Loss Limitation Issues for S Corporations\, LLCs\, and Partnerships
DESCRIPTION: The most difficult concepts to master when dealing with flow-through business entities are the basis and distribution concepts. Major error and malpractice issues occur if the CPA does not fully understand the impact of these rules. This course is designed to focus on the practical applications of these rules.Delivery Method: Individual webcastCPE Credit: 8Program Level: IntermediateThis course is being offered by a learning partner. You may access the Surgent platform through the My CPE page on vscpa.com after purchase\n 
CLASS:PUBLIC
END:VEVENT
END:VCALENDAR
