BEGIN:VCALENDAR
VERSION:2.0
PRODID:
BEGIN:VEVENT
UID:356963imp
DTSTAMP:20260423T011308Z
DTSTART:20261117T183000Z
DTEND:20261117T220000Z
SUMMARY: Surgent's The Most Critical Challenges in Governmental Accounting Today
DESCRIPTION: With the constant churning of governmental accounting standards\, now is the time to know more than just what the standards say\; we need to know what they mean and how they will affect governmental entities. This course is designed to do just that! The course materials utilize a highly illustrative and innovative format. Over 15 focused exercises are included to provide an enhanced working knowledge of the most critical challenges in governmental accounting today.Delivery Method: Individual webcastCPE Credit: 4Program Level: BasicThis course is being offered by a learning partner. You may access the Surgent platform through the My CPE page on vscpa.com after purchase\n 
CLASS:PUBLIC
END:VEVENT
END:VCALENDAR
